BEGIN:VCALENDAR
VERSION:2.0
PRODID:-// - ECPv6.15.14//NONSGML v1.0//EN
CALSCALE:GREGORIAN
METHOD:PUBLISH
X-ORIGINAL-URL:https://kptmp.mjukvarufabriken.se
X-WR-CALDESC:Händelser för 
REFRESH-INTERVAL;VALUE=DURATION:PT1H
X-Robots-Tag:noindex
X-PUBLISHED-TTL:PT1H
BEGIN:VTIMEZONE
TZID:Europe/Stockholm
BEGIN:DAYLIGHT
TZOFFSETFROM:+0100
TZOFFSETTO:+0200
TZNAME:CEST
DTSTART:20250330T010000
END:DAYLIGHT
BEGIN:STANDARD
TZOFFSETFROM:+0200
TZOFFSETTO:+0100
TZNAME:CET
DTSTART:20251026T010000
END:STANDARD
BEGIN:DAYLIGHT
TZOFFSETFROM:+0100
TZOFFSETTO:+0200
TZNAME:CEST
DTSTART:20260329T010000
END:DAYLIGHT
BEGIN:STANDARD
TZOFFSETFROM:+0200
TZOFFSETTO:+0100
TZNAME:CET
DTSTART:20261025T010000
END:STANDARD
BEGIN:DAYLIGHT
TZOFFSETFROM:+0100
TZOFFSETTO:+0200
TZNAME:CEST
DTSTART:20270328T010000
END:DAYLIGHT
BEGIN:STANDARD
TZOFFSETFROM:+0200
TZOFFSETTO:+0100
TZNAME:CET
DTSTART:20271031T010000
END:STANDARD
END:VTIMEZONE
BEGIN:VEVENT
DTSTART;TZID=Europe/Stockholm:20260206T073000
DTEND;TZID=Europe/Stockholm:20260206T090000
DTSTAMP:20260419T220833
CREATED:20251230T081501Z
LAST-MODIFIED:20251230T081501Z
UID:5790-1770363000-1770368400@kptmp.mjukvarufabriken.se
SUMMARY:Årets första näringslivsfrukost i Kumla - energi\, nätverk och gemenskap!
DESCRIPTION:Varmt välkommen till årets första näringslivsfrukost i Kumla \nVi rivstartar det nya året genom att samlas denna morgon med fokus på allt det som är på väg att ta form i Kumla just nu. \nFrukosten är ett fantastiskt tillfälle för dig som vill knyta nya kontakter och ladda upp energin tillsammans med andra företagare\, politiker\, tjänstemän och aktörer som berör näringslivet i Kumla. Så välkommen till en morgon som sätter tonen för året och visar varför Kumla är en plats där idéer\, initiativ och företag får fäste. \nSchema:07.30 Frukostmingel08.00 Programmet startar09.00 Avslut – tid för fortsatt mingel \nDatum och tid: Fredag 6 februari\, kl. 07.30–09.00Plats: Folkets Hus\, Kumla \nI kumla är näringslivsfrukosten kostnadsfri\, så välkommen hit\, oavsett om du är medlem eller inte.\nBjud gärna med en kollega\, kund eller leverantör. \nAnmälan är nu stängd! Hör av dig till Roberth (070-838 12 08) om du har några funderingar.
URL:https://kptmp.mjukvarufabriken.se/event/februari-2026/
ATTACH;FMTTYPE=:
END:VEVENT
BEGIN:VEVENT
DTSTART;TZID=Europe/Stockholm:20260212T110000
DTEND;TZID=Europe/Stockholm:20260212T140000
DTSTAMP:20260419T220833
CREATED:20251113T170549Z
LAST-MODIFIED:20260206T102402Z
UID:5789-1770894000-1770904800@kptmp.mjukvarufabriken.se
SUMMARY:Beredskapsforum för Näringslivet
DESCRIPTION:Välkommen till ett viktigt forum om beredskap och samhällssäkerhet!\nVi lever i en tid då världsläget snabbt kan förändras och om det händer\, kommer det tyvärr även påverka Kumlas företag. Frågor som säkerhet\, försörjningsförmåga och krisberedskap är inte längre något som bara berör myndigheter – de angår varje företag som vill fortsätta vara starkt\, leveranssäkert och konkurrenskraftigt. \nDärför vill Kumla kommun bjuda in till Beredskapsforum. En långlunch där näringslivet och kommunen tillsammans diskuterar hur vi bäst kan agera för att stärka vår beredskap.\nSom extra dragplåster får vi denna dag besök av Joakim Paasikivi\, en av Sveriges mest respekterade säkerhetsexperter och välkänd från tv. Han delar med sig  av sina aktuella och klargörande insikter om omvärldsläget och vad Kumlas företag behöver känna till i en tid av skärpt beredskap. \n– Vilka risker kan påverka just din verksamhet?\n– Hur kan ditt företag konkret stärka sin beredskap? \nUnder vår träff har du möjlighet att ställa frågor till Joakim och Kumla kommuns säkerhetsskyddschef och beredskapssamordnare Jan Hofmann. Dessutom\, som alltid vid våra träffar\, finns det också tid för att knyta värdefulla kontakter med andra företagare i kommunen. \nVi genomför detta första beredskapsforum i form av ett förlängt lunchmöte. Vi lyssnar till Joakim Passikivis föreläsning och får även information om kommunens ständigt pågående beredskapsarbete. Vi bjuder på lunch och fortsätter diskussionerna om hur vi tillsammans kan stärka företagens trygghet och Kumlas totala motståndskraft. \nVi hoppas verkligen att du har möjlighet att vara med!\nDatum: 12 februari 2026\nTid: 11.00-14.00\nPlats: Goda Rum\, Kyrkogatan 45 Kumla\nVi bjuder på lunch! \nVälkommen \n/ Jan Hofmann\, Kumla kommuns säkerhetsskyddschef och beredskapssamordnare\nHanna Jonasson\, näringslivschef Kumla kommun\nAnne-Lie Carlos Jeansson\, tf. kommundirektör  Kumla kommun\nJohanna Pettersson\, ordförande Kumla Promotion.\n \nKumla kommuns Beredskapsforum delfinansieras av Region Örebro Län.\nAktivera JavaScript i din webbläsare för att fylla i formuläret.Aktivera JavaScript i din webbläsare för att fylla i formuläret.För- och efternamn *Företag/organisation:  *Medlem i Kumla Promotion?  *--- Välj val ---JaNejNej\, men vill veta merMejladress *		\n			Promotion? Mejladress efternamn\n			\n		\n		Övrigt/specialkostSkicka
URL:https://kptmp.mjukvarufabriken.se/event/beredskapsforum/
CATEGORIES:Dialogforum
END:VEVENT
BEGIN:VEVENT
DTSTART;TZID=Europe/Stockholm:20260306T073000
DTEND;TZID=Europe/Stockholm:20260306T090000
DTSTAMP:20260419T220833
CREATED:20251230T084332Z
LAST-MODIFIED:20251230T084332Z
UID:5791-1772782200-1772787600@kptmp.mjukvarufabriken.se
SUMMARY:Näringslivsfrukost
DESCRIPTION:Varmt välkommen på näringslivsfrukost i Kumla \nFrukosten är ett fantastiskt tillfälle för dig som vill knyta nya kontakter och ladda upp energin tillsammans med andra företagare\, politiker\, tjänstemän och aktörer som berör näringslivet i Kumla. Så välkommen till en morgon som sätter tonen för året och visar varför Kumla är en plats där idéer\, initiativ och företag får fäste. \nSchema:07.30 Frukostmingel08.00 Programmet startar09.00 Avslut – tid för fortsatt mingel \nDatum och tid: Fredag 6 mars\, kl. 07.30–09.00Plats: Folkets Hus\, Kumla \nI kumla är näringslivsfrukosten kostnadsfri\, så välkommen hit\, oavsett om du är medlem eller inte.\nBjud gärna med en kollega\, kund eller leverantör. \n 
URL:https://kptmp.mjukvarufabriken.se/event/frukost-mars-2026/
ATTACH;FMTTYPE=:
END:VEVENT
BEGIN:VEVENT
DTSTART;TZID=Europe/Stockholm:20260410T073000
DTEND;TZID=Europe/Stockholm:20260410T090000
DTSTAMP:20260419T220833
CREATED:20251230T084619Z
LAST-MODIFIED:20251230T084619Z
UID:4207-1775806200-1775811600@kptmp.mjukvarufabriken.se
SUMMARY:Jubileumsfrukost för näringslivet i Kumla
DESCRIPTION:Varmt välkommen på näringslivsfrukost i Kumla \nFrukosten är ett fantastiskt tillfälle för dig som vill knyta nya kontakter och ladda upp energin tillsammans med andra företagare\, politiker\, tjänstemän och aktörer som berör näringslivet i Kumla. Så välkommen till en morgon som sätter tonen för året och visar varför Kumla är en plats där idéer\, initiativ och företag får fäste. \nSchema:07.30 Frukostmingel08.00 Programmet startar09.00 Avslut – tid för fortsatt mingel \nDatum och tid: Fredag 10 april\, kl. 07.30–09.00Plats: Folkets Hus\, Kumla \nI kumla är näringslivsfrukosten kostnadsfri\, så välkommen hit\, oavsett om du är medlem eller inte.\nBjud gärna med en kollega\, kund eller leverantör.
URL:https://kptmp.mjukvarufabriken.se/event/jubileumsfrukost-april/
ATTACH;FMTTYPE=:
END:VEVENT
BEGIN:VEVENT
DTSTART;TZID=Europe/Stockholm:20260417T113000
DTEND;TZID=Europe/Stockholm:20260417T140000
DTSTAMP:20260419T220833
CREATED:20251113T173127Z
LAST-MODIFIED:20251113T173127Z
UID:4090-1776425400-1776434400@kptmp.mjukvarufabriken.se
SUMMARY:Forum för kompetensförsörjning – uppstartsmöte
DESCRIPTION:Välkommen till uppstartsmöte för Kompetensforum – Tillsammans stärker vi näringslivet!\nVill du vara med och skapa framtidens kompetensförsörjning? \nNu bjuder vi in företagare som vill samverka\, dela erfarenheter och hitta gemensamma lösningar för att möta kompetensutmaningarna i vår region. \nVarför delta?\nKompetensförsörjning är en av de största frågorna för näringslivet idag – och vi blir starkare tillsammans! \nPå mötet får du: \n✔ Inspiration och kunskap om hur vi kan arbeta med kompetensfrågor\n✔ Möjlighet att påverka och forma ett forum för samverkan\n✔ Nya kontakter med företag\, utbildningsaktörer och offentliga aktörer \nSyftet med forumet är att skapa en gemensam plattform där vi kan: \n\nInventera behov och utmaningar\nUtveckla samarbeten kring kompetensförsörjning\nBygga broar till utbildningssystemet och andra aktörer\nStärka platsens attraktionskraft och näringslivets konkurrenskraft\n\nProgrammet i korthet: \n\nVad är kompetensförsörjning och varför är det viktigt?\nKommunens arbete och möjligheter för företag\nGoda exempel från Västra Bergslagens industriförening & Karlskoga kommun\nPresentation av aktörer som kan stötta näringslivet\nRunda-bords-samtal: Vilka behov har ni idag och på 5 års sikt?\nLunch och nätverkande\n\nDatum: 17 april\nTid: kl 11.30-14.00\nPlats: Goda rum
URL:https://kptmp.mjukvarufabriken.se/event/forum-kompetensforsorjning/
CATEGORIES:Dialogforum
ATTACH;FMTTYPE=:
END:VEVENT
BEGIN:VEVENT
DTSTART;TZID=Europe/Stockholm:20260508T073000
DTEND;TZID=Europe/Stockholm:20260508T090000
DTSTAMP:20260419T220833
CREATED:20251230T084845Z
LAST-MODIFIED:20251230T084845Z
UID:5792-1778225400-1778230800@kptmp.mjukvarufabriken.se
SUMMARY:Näringslivsfrukost: Så stärker vi Kumla som besöksmål
DESCRIPTION:Varmt välkommen på näringslivsfrukost i Kumla \nFrukosten är ett fantastiskt tillfälle för dig som vill knyta nya kontakter och ladda upp energin tillsammans med andra företagare\, politiker\, tjänstemän och aktörer som berör näringslivet i Kumla. Så välkommen till en morgon som sätter tonen för året och visar varför Kumla är en plats där idéer\, initiativ och företag får fäste. \nSchema:07.30 Frukostmingel08.00 Programmet startar09.00 Avslut – tid för fortsatt mingel \nDatum och tid: Fredag 8 maj\, kl. 07.30–09.00Plats: Folkets Hus\, Kumla \nI kumla är näringslivsfrukosten kostnadsfri\, så välkommen hit\, oavsett om du är medlem eller inte.\nBjud gärna med en kollega\, kund eller leverantör.
URL:https://kptmp.mjukvarufabriken.se/event/naringslivsfrukost-sa-starker-vi-kumla-som-besoksmal/
ATTACH;FMTTYPE=:
END:VEVENT
BEGIN:VEVENT
DTSTART;TZID=Europe/Stockholm:20260527T180000
DTEND;TZID=Europe/Stockholm:20260527T230000
DTSTAMP:20260419T220833
CREATED:20241112T164318Z
LAST-MODIFIED:20241112T164318Z
UID:3629-1779904800-1779922800@kptmp.mjukvarufabriken.se
SUMMARY:Näringslivets sommarmingel 2026
DESCRIPTION:Onsdagen den 27 maj 2026 välkomnar vi på Kumla Promotion\, Företagarna och Kumla kommun dig till ett härligt sommarmingel för näringslivet ute på idylliska Egastronomi Trilobiten i Kumla.  \nFamiljen Edgren & co serverar en somrig grillbuffé med goda såser och säsongens krispiga primörer. Tillsammans ska vi\, under bar himmel\, njuta av gott sällskap\, skön musik och fantastisk mat. Denna kväll finns det alla möjligheter att mingla i försommarsolen tillsammans med en massa trevliga människor från hela Kumlas näringsliv. \nPassa på att bjuda med dina kollegor – en perfekt sommarfest för hela verksamheten! \nUnder kvällen ska vi även dela ut flera fina företagarpriser i olika kategorier. \nDatum: Onsdag 27 maj\nTid: 18.00-sent\nPlats: Egastronomi Trilobiten\, Yxhultsvägen 11\nKostnad: 499:- för Kumla Promotions medlemmar och 599:- för ickemedlemmar.\nAnmälan: Öppnar under våren 2026\n \n 
URL:https://kptmp.mjukvarufabriken.se/event/sommarmingel-2026/
CATEGORIES:Mingel
ATTACH;FMTTYPE=:
END:VEVENT
BEGIN:VEVENT
DTSTART;TZID=Europe/Stockholm:20260904T073000
DTEND;TZID=Europe/Stockholm:20260904T090000
DTSTAMP:20260419T220833
CREATED:20251230T085433Z
LAST-MODIFIED:20251230T085433Z
UID:5793-1788507000-1788512400@kptmp.mjukvarufabriken.se
SUMMARY:Näringslivsfrukost om hållbart företagande
DESCRIPTION:Varmt välkommen på näringslivsfrukost i Kumla \nFrukosten är ett fantastiskt tillfälle för dig som vill knyta nya kontakter och ladda upp energin tillsammans med andra företagare\, politiker\, tjänstemän och aktörer som berör näringslivet i Kumla. Så välkommen till en morgon som sätter tonen för året och visar varför Kumla är en plats där idéer\, initiativ och företag får fäste. \nSchema:07.30 Frukostmingel08.00 Programmet startar09.00 Avslut – tid för fortsatt mingel \nDatum och tid: Fredag 4 september\, kl. 07.30–09.00Plats: Folkets Hus\, Kumla \nI kumla är näringslivsfrukosten kostnadsfri\, så välkommen hit\, oavsett om du är medlem eller inte.\nBjud gärna med en kollega\, kund eller leverantör.
URL:https://kptmp.mjukvarufabriken.se/event/naringslivsfrukost-om-hallbart-foretagande/
ATTACH;FMTTYPE=:
END:VEVENT
BEGIN:VEVENT
DTSTART;VALUE=DATE:20260911
DTEND;VALUE=DATE:20260912
DTSTAMP:20260419T220833
CREATED:20241112T165411Z
LAST-MODIFIED:20241112T165411Z
UID:3636-1789084800-1789171199@kptmp.mjukvarufabriken.se
SUMMARY:Företagsgolf 2026
DESCRIPTION:Företagsgolfen – Fredag 11 september – Kumla Golfklubb. \n\n\n\n\nAnmälan till tävlingen öppnar under våren 2026
URL:https://kptmp.mjukvarufabriken.se/event/foretagsgolf-2026/
CATEGORIES:Promotiongolf
ATTACH;FMTTYPE=image/jpeg:https://kptmp.mjukvarufabriken.se/wp-content/uploads/2024/09/067.jpg
END:VEVENT
BEGIN:VEVENT
DTSTART;TZID=Europe/Stockholm:20261002T073000
DTEND;TZID=Europe/Stockholm:20261002T090000
DTSTAMP:20260419T220833
CREATED:20251230T085706Z
LAST-MODIFIED:20251230T085706Z
UID:5794-1790926200-1790931600@kptmp.mjukvarufabriken.se
SUMMARY:Näringslivsfrukost - lokala framgångssagor
DESCRIPTION:Varmt välkommen på näringslivsfrukost i Kumla \nFrukosten är ett fantastiskt tillfälle för dig som vill knyta nya kontakter och ladda upp energin tillsammans med andra företagare\, politiker\, tjänstemän och aktörer som berör näringslivet i Kumla. Så välkommen till en morgon som sätter tonen för året och visar varför Kumla är en plats där idéer\, initiativ och företag får fäste. \nSchema:07.30 Frukostmingel08.00 Programmet startar09.00 Avslut – tid för fortsatt mingel \nDatum och tid: Fredag 2 oktober\, kl. 07.30–09.00Plats: Folkets Hus\, Kumla \nI kumla är näringslivsfrukosten kostnadsfri\, så välkommen hit\, oavsett om du är medlem eller inte.\nBjud gärna med en kollega\, kund eller leverantör. \n 
URL:https://kptmp.mjukvarufabriken.se/event/frukost-okt-26/
ATTACH;FMTTYPE=:
END:VEVENT
BEGIN:VEVENT
DTSTART;TZID=Europe/Stockholm:20261106T073000
DTEND;TZID=Europe/Stockholm:20261106T090000
DTSTAMP:20260419T220833
CREATED:20251230T085835Z
LAST-MODIFIED:20251230T085835Z
UID:5795-1793950200-1793955600@kptmp.mjukvarufabriken.se
SUMMARY:Näringslivsfrukost: Ingen jul utan Kumla
DESCRIPTION:Varmt välkommen på näringslivsfrukost i Kumla \nFrukosten är ett fantastiskt tillfälle för dig som vill knyta nya kontakter och ladda upp energin tillsammans med andra företagare\, politiker\, tjänstemän och aktörer som berör näringslivet i Kumla. Så välkommen till en morgon som sätter tonen för året och visar varför Kumla är en plats där idéer\, initiativ och företag får fäste. \nSchema:07.30 Frukostmingel08.00 Programmet startar09.00 Avslut – tid för fortsatt mingel \nDatum och tid: Fredag 6 november\, kl. 07.30–09.00Plats: Folkets Hus\, Kumla \nI kumla är näringslivsfrukosten kostnadsfri\, så välkommen hit\, oavsett om du är medlem eller inte.\nBjud gärna med en kollega\, kund eller leverantör.
URL:https://kptmp.mjukvarufabriken.se/event/frukost-nov-26/
ATTACH;FMTTYPE=:
END:VEVENT
END:VCALENDAR