BEGIN:VCALENDAR
VERSION:2.0
PRODID:-// - ECPv6.15.14//NONSGML v1.0//EN
CALSCALE:GREGORIAN
METHOD:PUBLISH
X-ORIGINAL-URL:https://kptmp.mjukvarufabriken.se
X-WR-CALDESC:Händelser för 
REFRESH-INTERVAL;VALUE=DURATION:PT1H
X-Robots-Tag:noindex
X-PUBLISHED-TTL:PT1H
BEGIN:VTIMEZONE
TZID:Europe/Stockholm
BEGIN:DAYLIGHT
TZOFFSETFROM:+0100
TZOFFSETTO:+0200
TZNAME:CEST
DTSTART:20250330T010000
END:DAYLIGHT
BEGIN:STANDARD
TZOFFSETFROM:+0200
TZOFFSETTO:+0100
TZNAME:CET
DTSTART:20251026T010000
END:STANDARD
BEGIN:DAYLIGHT
TZOFFSETFROM:+0100
TZOFFSETTO:+0200
TZNAME:CEST
DTSTART:20260329T010000
END:DAYLIGHT
BEGIN:STANDARD
TZOFFSETFROM:+0200
TZOFFSETTO:+0100
TZNAME:CET
DTSTART:20261025T010000
END:STANDARD
BEGIN:DAYLIGHT
TZOFFSETFROM:+0100
TZOFFSETTO:+0200
TZNAME:CEST
DTSTART:20270328T010000
END:DAYLIGHT
BEGIN:STANDARD
TZOFFSETFROM:+0200
TZOFFSETTO:+0100
TZNAME:CET
DTSTART:20271031T010000
END:STANDARD
END:VTIMEZONE
BEGIN:VEVENT
DTSTART;TZID=Europe/Stockholm:20261002T073000
DTEND;TZID=Europe/Stockholm:20261002T090000
DTSTAMP:20260420T014451
CREATED:20251230T085706Z
LAST-MODIFIED:20251230T085706Z
UID:5794-1790926200-1790931600@kptmp.mjukvarufabriken.se
SUMMARY:Näringslivsfrukost - lokala framgångssagor
DESCRIPTION:Varmt välkommen på näringslivsfrukost i Kumla \nFrukosten är ett fantastiskt tillfälle för dig som vill knyta nya kontakter och ladda upp energin tillsammans med andra företagare\, politiker\, tjänstemän och aktörer som berör näringslivet i Kumla. Så välkommen till en morgon som sätter tonen för året och visar varför Kumla är en plats där idéer\, initiativ och företag får fäste. \nSchema:07.30 Frukostmingel08.00 Programmet startar09.00 Avslut – tid för fortsatt mingel \nDatum och tid: Fredag 2 oktober\, kl. 07.30–09.00Plats: Folkets Hus\, Kumla \nI kumla är näringslivsfrukosten kostnadsfri\, så välkommen hit\, oavsett om du är medlem eller inte.\nBjud gärna med en kollega\, kund eller leverantör. \n 
URL:https://kptmp.mjukvarufabriken.se/event/frukost-okt-26/
ATTACH;FMTTYPE=:
END:VEVENT
BEGIN:VEVENT
DTSTART;TZID=Europe/Stockholm:20261106T073000
DTEND;TZID=Europe/Stockholm:20261106T090000
DTSTAMP:20260420T014451
CREATED:20251230T085835Z
LAST-MODIFIED:20251230T085835Z
UID:5795-1793950200-1793955600@kptmp.mjukvarufabriken.se
SUMMARY:Näringslivsfrukost: Ingen jul utan Kumla
DESCRIPTION:Varmt välkommen på näringslivsfrukost i Kumla \nFrukosten är ett fantastiskt tillfälle för dig som vill knyta nya kontakter och ladda upp energin tillsammans med andra företagare\, politiker\, tjänstemän och aktörer som berör näringslivet i Kumla. Så välkommen till en morgon som sätter tonen för året och visar varför Kumla är en plats där idéer\, initiativ och företag får fäste. \nSchema:07.30 Frukostmingel08.00 Programmet startar09.00 Avslut – tid för fortsatt mingel \nDatum och tid: Fredag 6 november\, kl. 07.30–09.00Plats: Folkets Hus\, Kumla \nI kumla är näringslivsfrukosten kostnadsfri\, så välkommen hit\, oavsett om du är medlem eller inte.\nBjud gärna med en kollega\, kund eller leverantör.
URL:https://kptmp.mjukvarufabriken.se/event/frukost-nov-26/
ATTACH;FMTTYPE=:
END:VEVENT
END:VCALENDAR